BEGIN:VCALENDAR
VERSION:2.0
PRODID:spatie/icalendar-generator
DESCRIPTION:Events from High Caliper Growing Inc.
X-WR-CALDESC:Events from High Caliper Growing Inc.
REFRESH-INTERVAL;VALUE=DURATION:PT1440M
X-PUBLISHED-TTL:PT1440M
BEGIN:VTIMEZONE
TZID:Etc/GMT+0
BEGIN:STANDARD
DTSTART:20160305T000000Z
TZOFFSETFROM:+0000
TZOFFSETTO:+0000
END:STANDARD
END:VTIMEZONE
BEGIN:VTIMEZONE
TZID:UTC
BEGIN:STANDARD
DTSTART:20250727T044220Z
TZOFFSETFROM:+0000
TZOFFSETTO:+0000
END:STANDARD
END:VTIMEZONE
BEGIN:VEVENT
UID:63-38
DTSTAMP:20260423T044220Z
SUMMARY:New England Grows
LOCATION:
ORGANIZER;CN=High Caliper Growing:MAILTO:admin@demovine.com
DTSTART;TZID=Etc/GMT+0;VALUE=DATE:20161130
DTEND;TZID=Etc/GMT+0;VALUE=DATE:20161203
X-ALT-DESC;FMTTYPE=TEXT/HTML:
CATEGORIES:General
URL;VALUE=URI:
METHOD:PUBLISH
END:VEVENT
END:VCALENDAR