BEGIN:VCALENDAR
VERSION:2.0
PRODID:spatie/icalendar-generator
DESCRIPTION:Events from High Caliper Growing Inc.
X-WR-CALDESC:Events from High Caliper Growing Inc.
REFRESH-INTERVAL;VALUE=DURATION:PT1440M
X-PUBLISHED-TTL:PT1440M
BEGIN:VTIMEZONE
TZID:Etc/GMT+0
BEGIN:STANDARD
DTSTART:20141014T000000Z
TZOFFSETFROM:+0000
TZOFFSETTO:+0000
END:STANDARD
END:VTIMEZONE
BEGIN:VTIMEZONE
TZID:UTC
BEGIN:STANDARD
DTSTART:20250729T172658Z
TZOFFSETFROM:+0000
TZOFFSETTO:+0000
END:STANDARD
END:VTIMEZONE
BEGIN:VEVENT
UID:28-8
DTSTAMP:20260425T172658Z
SUMMARY:Cultivate '15
LOCATION:
ORGANIZER;CN=High Caliper Growing:MAILTO:admin@demovine.com
DTSTART;TZID=Etc/GMT+0:20150711T000000
DTEND;TZID=Etc/GMT+0:20150715T000000
X-ALT-DESC;FMTTYPE=TEXT/HTML:<p>This is where you see the latest products\,
  learn the latest trends\, and connect—face to face—with the people yo
 u usually only meet over the phone or online. It would almost be overwhelm
 ing if it weren't so darned much fun.<br />\nDiscover all the ways to CULT
 IVATE.</p>\n
CATEGORIES:General
URL;VALUE=URI:
METHOD:PUBLISH
END:VEVENT
END:VCALENDAR