BEGIN:VCALENDAR
VERSION:2.0
PRODID:spatie/icalendar-generator
DESCRIPTION:Events from High Caliper Growing Inc.
X-WR-CALDESC:Events from High Caliper Growing Inc.
REFRESH-INTERVAL;VALUE=DURATION:PT1440M
X-PUBLISHED-TTL:PT1440M
BEGIN:VTIMEZONE
TZID:Etc/GMT+0
BEGIN:STANDARD
DTSTART:20140512T000000Z
TZOFFSETFROM:+0000
TZOFFSETTO:+0000
END:STANDARD
END:VTIMEZONE
BEGIN:VTIMEZONE
TZID:UTC
BEGIN:STANDARD
DTSTART:20250729T005357Z
TZOFFSETFROM:+0000
TZOFFSETTO:+0000
END:STANDARD
END:VTIMEZONE
BEGIN:VEVENT
UID:25-5
DTSTAMP:20260425T005357Z
SUMMARY:Northeast Texas Nursery Growers Association
LOCATION:Mesquite Rodeo Center 1818 Rodeo Drive  Mesquite TX 75149
ORGANIZER;CN=High Caliper Growing:MAILTO:admin@demovine.com
DTSTART;TZID=Etc/GMT+0:20150206T000000
DTEND;TZID=Etc/GMT+0:20150208T000000
X-ALT-DESC;FMTTYPE=TEXT/HTML:<p>The Best Little Trade Show in Texas!<br />\
 nNTNGA's 2015 Annual Trade Show</p>\n<p>Mesquite Rodeo Center<br />\nMesqu
 ite\, Texas</p>\n
CATEGORIES:General
URL;VALUE=URI:
METHOD:PUBLISH
END:VEVENT
END:VCALENDAR